BEGIN:VCALENDAR
VERSION:2.0
PRODID:-//Second Victim - ECPv6.15.17.1//NONSGML v1.0//EN
CALSCALE:GREGORIAN
METHOD:PUBLISH
X-ORIGINAL-URL:https://www.secondvictim.at
X-WR-CALDESC:Veranstaltungen für Second Victim
REFRESH-INTERVAL;VALUE=DURATION:PT1H
X-Robots-Tag:noindex
X-PUBLISHED-TTL:PT1H
BEGIN:VTIMEZONE
TZID:Europe/Vienna
BEGIN:DAYLIGHT
TZOFFSETFROM:+0100
TZOFFSETTO:+0200
TZNAME:CEST
DTSTART:20250330T010000
END:DAYLIGHT
BEGIN:STANDARD
TZOFFSETFROM:+0200
TZOFFSETTO:+0100
TZNAME:CET
DTSTART:20251026T010000
END:STANDARD
BEGIN:DAYLIGHT
TZOFFSETFROM:+0100
TZOFFSETTO:+0200
TZNAME:CEST
DTSTART:20260329T010000
END:DAYLIGHT
BEGIN:STANDARD
TZOFFSETFROM:+0200
TZOFFSETTO:+0100
TZNAME:CET
DTSTART:20261025T010000
END:STANDARD
BEGIN:DAYLIGHT
TZOFFSETFROM:+0100
TZOFFSETTO:+0200
TZNAME:CEST
DTSTART:20270328T010000
END:DAYLIGHT
BEGIN:STANDARD
TZOFFSETFROM:+0200
TZOFFSETTO:+0100
TZNAME:CET
DTSTART:20271031T010000
END:STANDARD
END:VTIMEZONE
BEGIN:VEVENT
DTSTART;TZID=Europe/Vienna:20260507T090000
DTEND;TZID=Europe/Vienna:20260507T140000
DTSTAMP:20260422T120158
CREATED:20260113T095315Z
LAST-MODIFIED:20260331T103106Z
UID:5065-1778144400-1778162400@www.secondvictim.at
SUMMARY:Second Victim AKTIONSTAG
DESCRIPTION:Unser alljährlicher Fixtermin steht fest. Auch dieses Jahr veranstaltete unser Verein\, in Kooperation mit der österreichischen Plattform für Patient:innensicherheit und der Medizinischen Uni Wien\, den Second Victim Aktionstag. Freuen Sie sich auf spannende Inputs! \nHier geht es zur offiziellen Seite des Events: Aktionstag Second Victim – 5 Jahre Aufmerksamkeit\, Austausch und Unterstützung | MedUni Wien \nAnmeldung bitte unter office@secondvictim.at
URL:https://www.secondvictim.at/veranstaltung/second-victim-aktionstag/
LOCATION:Van Swieten Saal der Medizinischen Uni Wien\, Van-Swieten-Gasse 1a\, Wien\, 1190\, Austria
END:VEVENT
BEGIN:VEVENT
DTSTART;TZID=Europe/Vienna:20260601T090000
DTEND;TZID=Europe/Vienna:20260602T170000
DTSTAMP:20260422T120158
CREATED:20260325T111123Z
LAST-MODIFIED:20260325T111123Z
UID:5206-1780304400-1780419600@www.secondvictim.at
SUMMARY:Peer Support Ausbildung | LGA  St. Pölten  - ausgebucht
DESCRIPTION:Der erste Teil unserer Peer-Ausbildung findet am 1. & 2. Juni 2026 statt. In Kooperation mit PSU-Akut e.V. München veranstaltet der Verein Second Victim eine Ausbildung\, die sich an Fachkräfte richtet\, welche lernen möchten\, Kolleg*innen im Rahmen des Second Victim Phänomens professionell zu unterstützen und einen sicheren Umgang mit psychischen Belastungen im medizinischen Alltag zu entwickeln. \nEine wertvolle Gelegenheit\, um sich für die Unterstützung von Kolleg*innen weiterzubilden und die Resilienz im Gesundheitswesen zu stärken!
URL:https://www.secondvictim.at/veranstaltung/peer-support-ausbildung-lga-st-poelten-ausgebucht/
END:VEVENT
BEGIN:VEVENT
DTSTART;TZID=Europe/Vienna:20260615T090000
DTEND;TZID=Europe/Vienna:20260615T130000
DTSTAMP:20260422T120158
CREATED:20260311T122633Z
LAST-MODIFIED:20260311T122633Z
UID:5200-1781514000-1781528400@www.secondvictim.at
SUMMARY:Termin 2: Workshop Second Victim – Fachinput & Praxisreflexion – intern
DESCRIPTION:Sabine Fürst besucht am zweiten Tage das St.-Josef-Krankenhaus\, um über das Second-Victim-Phänomen zu sprechen. In diesem Workshop erwartet die Teilnehmer*innen eine Kombination aus einem fundierten Fachvortrag zum Second-Victim-Phänomen und einer anschließenden praxisorientierten Supervision. Der Vortrag vermittelt zentrale Begriffe\, typische Fallbeispiele sowie wirksame Präventionsansätze. Auch aktuelle Erkenntnisse aus der Studienlage in Österreich werden beleuchtet. Im zweiten Teil steht der gemeinsame Austausch im Mittelpunkt: Anhand interaktiver Übungen und konkreter Praxisbeispiele\, gerne auch aus dem Erleben der Teilnehmenden\, werden Erfahrungen reflektiert und gemeinsam Lösungsstrategien entwickelt.
URL:https://www.secondvictim.at/veranstaltung/termin-2-workshop-second-victim-fachinput-praxisreflexion-intern/
LOCATION:St. Josef Krankenhaus Wien\, Auhofstraße 189\, Wien\, Wien\, 1130\, Austria
CATEGORIES:Workshop intern
END:VEVENT
BEGIN:VEVENT
DTSTART;TZID=Europe/Vienna:20260914T090000
DTEND;TZID=Europe/Vienna:20260914T170000
DTSTAMP:20260422T120158
CREATED:20260325T111258Z
LAST-MODIFIED:20260325T111258Z
UID:5208-1789376400-1789405200@www.secondvictim.at
SUMMARY:Tag 3: Peer Support Ausbildung | LGA  St. Pölten  - ausgebucht
DESCRIPTION:Der 3. Tag und letzter Teil unserer Peer-Ausbildung findet am 20. März 2026 statt. In Kooperation mit PSU-Akut e.V. München veranstaltet der Verein Second Victim eine Ausbildung\, die sich an Fachkräfte richtet\, welche lernen möchten\, Kolleg*innen im Rahmen des Second Victim Phänomens professionell zu unterstützen und einen sicheren Umgang mit psychischen Belastungen im medizinischen Alltag zu entwickeln. \nEine wertvolle Gelegenheit\, um sich für die Unterstützung von Kolleg*innen weiterzubilden und die Resilienz im Gesundheitswesen zu stärken!
URL:https://www.secondvictim.at/veranstaltung/tag-3-peer-support-ausbildung-lga-st-poelten-ausgebucht/
END:VEVENT
BEGIN:VEVENT
DTSTART;TZID=Europe/Vienna:20261009T100000
DTEND;TZID=Europe/Vienna:20261009T150000
DTSTAMP:20260422T120158
CREATED:20260401T113314Z
LAST-MODIFIED:20260401T114042Z
UID:5221-1791540000-1791558000@www.secondvictim.at
SUMMARY:Second Victim Botschafter:innen Infos & Kennenlerntag
DESCRIPTION:Wir suchen Second Victim Botschafter*innen in ganz Österreich \nBelastende Ereignisse im Gesundheitswesen ereignen sich täglich und trotzdem wird viel zu selten darüber gesprochen. Wir brauchen deine Unterstützung\, um das zu ändern\, und zwar österreichweit! Wir starten eine neue Initiative und suchen Second-Victim-Botschafter*innen in ganz Österreich. \nZiel ist es\, pro Bundesland engagierte Personen zu gewinnen\, die:\n• als regionale Ansprechpersonen fungieren\n• Vorträge halten\n• das Thema im Gesundheitswesen sichtbar machen \nWas erwartet dich?\n✔️ Ausbildung im Peer Support (Wert: 1.200 €)\n✔️ Österreichweite Vernetzung\n✔️ Mitgestaltung eines wichtigen Themas\n✔️ Persönliche Weiterentwicklung \nUnd vor allem: eine sinnstiftende Aufgabe\, die wirklich etwas verändert. \nBewerbung: Motivationsschreiben + Lebenslauf an office@secondvictim.at\nDeadline: 31. Mai 2026 \nNach der Vorauswahl veranstalten wir einen Kennenlerntag am 9. Oktober in Salzburg. Hier lernen wir uns kennen und finden gemeinsam heraus\, ob wir ein Match sind. \nAlle Details findest du hier im Ausschreibungstext. SV_BotschafterInnen_Ausschreiben \nWir freuen uns auch\, wenn du diesen Beitrag in deinem Netzwerk teilst oder geeignete Personen darauf aufmerksam machst. \nSV-Botschafter:innen\, ein Projekt gefördert durch das Bundesministerium für Arbeit\, Soziales\, Gesundheit\, Pflege und Konsumentenschutz
URL:https://www.secondvictim.at/veranstaltung/second-victim-botschafterinnen-infos-kennenlerntag/
END:VEVENT
END:VCALENDAR