BEGIN:VCALENDAR
VERSION:2.0
PRODID:-//Second Victim - ECPv6.15.17.1//NONSGML v1.0//EN
CALSCALE:GREGORIAN
METHOD:PUBLISH
X-ORIGINAL-URL:https://www.secondvictim.at
X-WR-CALDESC:Veranstaltungen für Second Victim
REFRESH-INTERVAL;VALUE=DURATION:PT1H
X-Robots-Tag:noindex
X-PUBLISHED-TTL:PT1H
BEGIN:VTIMEZONE
TZID:Europe/Vienna
BEGIN:DAYLIGHT
TZOFFSETFROM:+0100
TZOFFSETTO:+0200
TZNAME:CEST
DTSTART:20240331T010000
END:DAYLIGHT
BEGIN:STANDARD
TZOFFSETFROM:+0200
TZOFFSETTO:+0100
TZNAME:CET
DTSTART:20241027T010000
END:STANDARD
BEGIN:DAYLIGHT
TZOFFSETFROM:+0100
TZOFFSETTO:+0200
TZNAME:CEST
DTSTART:20250330T010000
END:DAYLIGHT
BEGIN:STANDARD
TZOFFSETFROM:+0200
TZOFFSETTO:+0100
TZNAME:CET
DTSTART:20251026T010000
END:STANDARD
BEGIN:DAYLIGHT
TZOFFSETFROM:+0100
TZOFFSETTO:+0200
TZNAME:CEST
DTSTART:20260329T010000
END:DAYLIGHT
BEGIN:STANDARD
TZOFFSETFROM:+0200
TZOFFSETTO:+0100
TZNAME:CET
DTSTART:20261025T010000
END:STANDARD
END:VTIMEZONE
BEGIN:VEVENT
DTSTART;TZID=Europe/Vienna:20251013T090000
DTEND;TZID=Europe/Vienna:20251013T130000
DTSTAMP:20260423T024820
CREATED:20250528T150037Z
LAST-MODIFIED:20250727T124209Z
UID:4807-1760346000-1760360400@www.secondvictim.at
SUMMARY:Workshop Second Victim – Fachinput & Praxisreflexion – intern
DESCRIPTION:Iris Schimpf und Sabine Fürst besuchen an zwei Tagen (Termin erster Tag) das St. Josef Krankenhaus um über das Second Victim Phänomen zu sprechen. In diesem Workshop erwartet die Teilnehmer*innen eine Kombination aus einem fundierten Fachvortrag zum Second Victim-Phänomen und einer anschließenden praxisorientierten Supervision. Der Vortrag vermittelt zentrale Begriffe\, typische Fallbeispiele sowie wirksame Präventionsansätze. Auch aktuelle Erkenntnisse aus der Studienlage in Österreich werden beleuchtet. Im zweiten Teil steht der gemeinsame Austausch im Mittelpunkt: Anhand interaktiver Übungen und konkreter Praxisbeispiele\, gerne auch aus dem Erleben der Teilnehmenden\, werden Erfahrungen reflektiert und gemeinsam Lösungsstrategien entwickelt.
URL:https://www.secondvictim.at/veranstaltung/workshop-second-victim-fachinput-praxisreflexion-intern-2/
LOCATION:St. Josef Krankenhaus Wien\, Auhofstraße 189\, Wien\, Wien\, 1130\, Austria
CATEGORIES:Workshop intern
END:VEVENT
END:VCALENDAR