BEGIN:VCALENDAR
VERSION:2.0
PRODID:-//Second Victim - ECPv6.15.17.1//NONSGML v1.0//EN
CALSCALE:GREGORIAN
METHOD:PUBLISH
X-WR-CALNAME:Second Victim
X-ORIGINAL-URL:https://www.secondvictim.at
X-WR-CALDESC:Veranstaltungen für Second Victim
REFRESH-INTERVAL;VALUE=DURATION:PT1H
X-Robots-Tag:noindex
X-PUBLISHED-TTL:PT1H
BEGIN:VTIMEZONE
TZID:Europe/Vienna
BEGIN:DAYLIGHT
TZOFFSETFROM:+0100
TZOFFSETTO:+0200
TZNAME:CEST
DTSTART:20250330T010000
END:DAYLIGHT
BEGIN:STANDARD
TZOFFSETFROM:+0200
TZOFFSETTO:+0100
TZNAME:CET
DTSTART:20251026T010000
END:STANDARD
BEGIN:DAYLIGHT
TZOFFSETFROM:+0100
TZOFFSETTO:+0200
TZNAME:CEST
DTSTART:20260329T010000
END:DAYLIGHT
BEGIN:STANDARD
TZOFFSETFROM:+0200
TZOFFSETTO:+0100
TZNAME:CET
DTSTART:20261025T010000
END:STANDARD
BEGIN:DAYLIGHT
TZOFFSETFROM:+0100
TZOFFSETTO:+0200
TZNAME:CEST
DTSTART:20270328T010000
END:DAYLIGHT
BEGIN:STANDARD
TZOFFSETFROM:+0200
TZOFFSETTO:+0100
TZNAME:CET
DTSTART:20271031T010000
END:STANDARD
END:VTIMEZONE
BEGIN:VEVENT
DTSTART;TZID=Europe/Vienna:20260320T090000
DTEND;TZID=Europe/Vienna:20260320T170000
DTSTAMP:20260422T145140
CREATED:20250609T140636Z
LAST-MODIFIED:20250609T140636Z
UID:4830-1773997200-1774026000@www.secondvictim.at
SUMMARY:Peer Kurs Transfermodul - 3. Tag
DESCRIPTION:Der 3. Tag und letzter Teil unserer Peer Ausbildung findet am 20. März 2026 statt. In Kooperation mit PSU-Akut München veranstaltet der Verein Second Victim eine Ausbildung\, die sich an Fachkräfte richtet\, welche lernen möchten\, Kolleg*innen im Rahmen des Second Victim Phänomens professionell zu unterstützen und einen sicheren Umgang mit psychischen Belastungen im medizinischen Alltag zu entwickeln. \nEine wertvolle Gelegenheit\, um sich für die Unterstützung von Kolleg*innen weiterzubilden und die Resilienz im Gesundheitswesen zu stärken! – Hier geht es zum Ticketlink: https://pretix.eu/secondvictim/peer-2026-offen/ \nNähere Informationen werden folgen.
URL:https://www.secondvictim.at/veranstaltung/peer-kurs-transfermodul-3-tag/
END:VEVENT
END:VCALENDAR