BEGIN:VCALENDAR
VERSION:2.0
PRODID:-//Second Victim - ECPv6.15.17.1//NONSGML v1.0//EN
CALSCALE:GREGORIAN
METHOD:PUBLISH
X-WR-CALNAME:Second Victim
X-ORIGINAL-URL:https://www.secondvictim.at
X-WR-CALDESC:Veranstaltungen für Second Victim
REFRESH-INTERVAL;VALUE=DURATION:PT1H
X-Robots-Tag:noindex
X-PUBLISHED-TTL:PT1H
BEGIN:VTIMEZONE
TZID:Europe/Vienna
BEGIN:DAYLIGHT
TZOFFSETFROM:+0100
TZOFFSETTO:+0200
TZNAME:CEST
DTSTART:20250330T010000
END:DAYLIGHT
BEGIN:STANDARD
TZOFFSETFROM:+0200
TZOFFSETTO:+0100
TZNAME:CET
DTSTART:20251026T010000
END:STANDARD
BEGIN:DAYLIGHT
TZOFFSETFROM:+0100
TZOFFSETTO:+0200
TZNAME:CEST
DTSTART:20260329T010000
END:DAYLIGHT
BEGIN:STANDARD
TZOFFSETFROM:+0200
TZOFFSETTO:+0100
TZNAME:CET
DTSTART:20261025T010000
END:STANDARD
BEGIN:DAYLIGHT
TZOFFSETFROM:+0100
TZOFFSETTO:+0200
TZNAME:CEST
DTSTART:20270328T010000
END:DAYLIGHT
BEGIN:STANDARD
TZOFFSETFROM:+0200
TZOFFSETTO:+0100
TZNAME:CET
DTSTART:20271031T010000
END:STANDARD
END:VTIMEZONE
BEGIN:VEVENT
DTSTART;TZID=Europe/Vienna:20260112T090000
DTEND;TZID=Europe/Vienna:20260113T170000
DTSTAMP:20260422T171355
CREATED:20250609T140355Z
LAST-MODIFIED:20250609T140504Z
UID:4823-1768208400-1768323600@www.secondvictim.at
SUMMARY:Peer Kurs Interventions-Modul - Tag 1 & 2
DESCRIPTION:Der erste Teil unserer Peer Ausbildung findet am 12. & 13. Jänner 2026 statt. In Kooperation mit PSU-Akut München veranstaltet der Verein Second Victim eine Ausbildung\, die sich an Fachkräfte richtet\, welche lernen möchten\, Kolleg*innen im Rahmen des Second Victim Phänomens professionell zu unterstützen und einen sicheren Umgang mit psychischen Belastungen im medizinischen Alltag zu entwickeln. \nEine wertvolle Gelegenheit\, um sich für die Unterstützung von Kolleg*innen weiterzubilden und die Resilienz im Gesundheitswesen zu stärken! – Hier geht es zum Ticketlink: https://pretix.eu/secondvictim/peer-2026-offen/ \nNähere Informationen werden folgen.
URL:https://www.secondvictim.at/veranstaltung/peer-kurs-interventions-modul-tag-1/
END:VEVENT
BEGIN:VEVENT
DTSTART;TZID=Europe/Vienna:20260129T080000
DTEND;TZID=Europe/Vienna:20260129T140000
DTSTAMP:20260422T171355
CREATED:20250528T145747Z
LAST-MODIFIED:20250903T161406Z
UID:4805-1769673600-1769695200@www.secondvictim.at
SUMMARY:Workshop Second Victim - Fachinput & Praxisreflexion - intern
DESCRIPTION:Iris Schimpf und Sabine Fürst besuchen an zwei Tagen (Termin zweiter Tag) das St. Josef Krankenhaus um über das Second Victim Phänomen zu sprechen. In diesem Workshop erwartet die Teilnehmer*innen eine Kombination aus einem fundierten Fachvortrag zum Second Victim-Phänomen und einer anschließenden praxisorientierten Supervision. Der Vortrag vermittelt zentrale Begriffe\, typische Fallbeispiele sowie wirksame Präventionsansätze. Auch aktuelle Erkenntnisse aus der Studienlage in Österreich werden beleuchtet. Im zweiten Teil steht der gemeinsame Austausch im Mittelpunkt: Anhand interaktiver Übungen und konkreter Praxisbeispiele\, gerne auch aus dem Erleben der Teilnehmenden\, werden Erfahrungen reflektiert und gemeinsam Lösungsstrategien entwickelt.
URL:https://www.secondvictim.at/veranstaltung/workshop-second-victim-fachinput-praxisreflexion-intern/
LOCATION:St. Josef Krankenhaus Wien\, Auhofstraße 189\, Wien\, Wien\, 1130\, Austria
CATEGORIES:Workshop intern
END:VEVENT
END:VCALENDAR