BEGIN:VCALENDAR
VERSION:2.0
PRODID:-//Second Victim - ECPv6.15.17.1//NONSGML v1.0//EN
CALSCALE:GREGORIAN
METHOD:PUBLISH
X-ORIGINAL-URL:https://www.secondvictim.at
X-WR-CALDESC:Veranstaltungen für Second Victim
REFRESH-INTERVAL;VALUE=DURATION:PT1H
X-Robots-Tag:noindex
X-PUBLISHED-TTL:PT1H
BEGIN:VTIMEZONE
TZID:Europe/Vienna
BEGIN:DAYLIGHT
TZOFFSETFROM:+0100
TZOFFSETTO:+0200
TZNAME:CEST
DTSTART:20240331T010000
END:DAYLIGHT
BEGIN:STANDARD
TZOFFSETFROM:+0200
TZOFFSETTO:+0100
TZNAME:CET
DTSTART:20241027T010000
END:STANDARD
BEGIN:DAYLIGHT
TZOFFSETFROM:+0100
TZOFFSETTO:+0200
TZNAME:CEST
DTSTART:20250330T010000
END:DAYLIGHT
BEGIN:STANDARD
TZOFFSETFROM:+0200
TZOFFSETTO:+0100
TZNAME:CET
DTSTART:20251026T010000
END:STANDARD
BEGIN:DAYLIGHT
TZOFFSETFROM:+0100
TZOFFSETTO:+0200
TZNAME:CEST
DTSTART:20260329T010000
END:DAYLIGHT
BEGIN:STANDARD
TZOFFSETFROM:+0200
TZOFFSETTO:+0100
TZNAME:CET
DTSTART:20261025T010000
END:STANDARD
END:VTIMEZONE
BEGIN:VEVENT
DTSTART;TZID=Europe/Vienna:20251105T190000
DTEND;TZID=Europe/Vienna:20251105T200000
DTSTAMP:20260422T194951
CREATED:20250903T161251Z
LAST-MODIFIED:20250903T161251Z
UID:4954-1762369200-1762372800@www.secondvictim.at
SUMMARY:Second Victim Präventionsvortrag in Linz (intern)
DESCRIPTION:Dr. Barbara Sitter besucht am 5. November das AUVA-Unfallkrankenhaus in Linz um über das Thema Second Victim aufzuklären. Der Vortrag klärt nicht nur über das Thema im Allgemeinen auf\, sondern beleuchtet auch wichtige Aspekte der Prävention und gibt typische Beispiele wieder.
URL:https://www.secondvictim.at/veranstaltung/second-victim-praeventionsvortrag-in-linz-intern/
LOCATION:AUVA-Unfallkrankenhaus Linz\, Garnisonstraße 7\, Linz\, Oberösterreich\, 4010\, Austria
END:VEVENT
BEGIN:VEVENT
DTSTART;TZID=Europe/Vienna:20251107T170000
DTEND;TZID=Europe/Vienna:20251107T180000
DTSTAMP:20260422T194951
CREATED:20250915T123633Z
LAST-MODIFIED:20250926T090426Z
UID:4985-1762534800-1762538400@www.secondvictim.at
SUMMARY:2. Termin Webinar - PEER Ausbildung mit PSU-Akut e.V.
DESCRIPTION:Wir freuen uns\, nächstes Jahr im Jänner unseren Peer-Kurs wieder anzubieten. Zusammen mit PSU-Akut e.V. aus Deutschland\, dessen Trainer die Kurse bei uns durchführen\, veranstalten wir ein Info-Webinar. \nIn diesem Webinar stellen wir den Kurs vor\, erklären den Ablauf und beantworten alle offenen Fragen.Das Webinar findet über Zoom statt\, die Teilnahme ist kostenlos. Es gibt zwei Termine (16.10 um 19 Uhr\, 07.11 um 17 Uhr) \nHier geht’s direkt zum Zoom-Meeting (Link für den 07.11): \n\nhttps://eu01web.zoom.us/j/67887498416?pwd=zbSTlZkAiZzvlnlyBxeryKczgEShJw.1\nMeeting-ID: 678 8749 8416\nKenncode: 045275\n\nWir freuen uns auf alle Interessierten!
URL:https://www.secondvictim.at/veranstaltung/webinar-peer-ausbildung-mit-psu-akut-e-v/
END:VEVENT
BEGIN:VEVENT
DTSTART;TZID=Europe/Vienna:20251110T170000
DTEND;TZID=Europe/Vienna:20251110T180000
DTSTAMP:20260422T194951
CREATED:20251007T094128Z
LAST-MODIFIED:20251007T094128Z
UID:5001-1762794000-1762797600@www.secondvictim.at
SUMMARY:ASQS-Talk: Das Second Victim Phänomen - Herausforderungen und Lösungen für das Gesundheitswesen
DESCRIPTION:Beim kommenden ASQS-Talk wird Dr.in Eva Potura\, Anästhesistin und Gründerin von Second Victim\, über die Herausforderungen und Lösungsansätze rund um das Second Victim Phänomen sprechen. Im Anschluss an den Impulsvortrag gibt es Gelegenheit für Fragen und Diskussion. \nDie Teilnahme ist kostenfrei und öffentlich zugänglich\, eine Anmeldung per E-Mail ist jedoch erforderlich. \nAnmeldung:Einfach eine kurze Nachricht an office@asqs.at senden – der Zugangslink wird anschließend per E-Mail zugeschickt. \nEs handelt sich um eine Online-Veranstaltung. \nHier finden Sie alle relevant Informationen: ASQS-Talk_Nov-2025_Second Victim_Potura
URL:https://www.secondvictim.at/veranstaltung/asqs-talk-das-second-victim-phaenomen-herausforderungen-und-loesungen-fuer-das-gesundheitswesen/
LOCATION:online
END:VEVENT
BEGIN:VEVENT
DTSTART;TZID=Europe/Vienna:20251118T100000
DTEND;TZID=Europe/Vienna:20251118T110000
DTSTAMP:20260422T194951
CREATED:20251010T103945Z
LAST-MODIFIED:20251010T103955Z
UID:5007-1763460000-1763463600@www.secondvictim.at
SUMMARY:Second Victim Präventionsvortrag beim Treffen leitender Physiotherapeut*innen Österreichs (intern)
DESCRIPTION:Stephanie Niederhuber darf unseren Verein am Treffen leitender Physiotherapeut*innen Österreichs vertreten. Sie wird dort am Vormittag über das Second Victim Phönomen aufklären und wichtige Präventionsmaßnahmen erläutern.
URL:https://www.secondvictim.at/veranstaltung/second-victim-praeventionsvortrag-beim-treffen-leitender-physiotherapeutinnen-oesterreichs-intern/
LOCATION:Klinik Ottakring\, Montlearstraße 37\, Wien\, Wien\, 1160\, Austria
END:VEVENT
BEGIN:VEVENT
DTSTART;TZID=Europe/Vienna:20251121T090000
DTEND;TZID=Europe/Vienna:20251121T170000
DTSTAMP:20260422T194951
CREATED:20250519T154810Z
LAST-MODIFIED:20251128T130052Z
UID:4795-1763715600-1763744400@www.secondvictim.at
SUMMARY:Second Aid - Symposium
DESCRIPTION:Weg vom „Victim“ – hin zur „Aid“.\nMit Second Aid schaffen wir einen Raum für Austausch\, Reflexion und konkrete Handlungsstrategien rund um psychosoziale Unterstützung im Gesundheitswesen. Unser Motto: Mensch bleiben – kein Opfer werden \nIm Fokus:Prävention\, Selbstfürsorge\, kollegiale Unterstützung (z. B. durch Peer-Ausbildung)\, internationale Impulse\, interaktive Workshops und anwendbares Wissen für die Praxis. \nDank unseres Hauptsponsors\, dem Wiener Städtischen Versicherungsverein\, ist für Verpflegung und Eventlocation gesorgt – inklusive Blick über die Dächer Wiens! \nKommen Sie vorbei\, lassen Sie sich inspirieren – und gestalten Sie mit uns gemeinsam eine Kultur der Achtsamkeit und Unterstützung im Gesundheitswesen. \nDer Reinerlös kommt dem Verein Second Victim zu Gute. Der Verein unterstützt medizinisches Personal nach kritischen Ereignissen und wird vom Wiener Städtischen Versicherungsverein unterstützt. \nHier geht es zum Programm: Second Aid_Programm \nMit freundlicher Unterstützt von: \n \n  \nHier finden Sie unseren Nachbericht: SecondAid Symposium – Rückblick – Second Victim 
URL:https://www.secondvictim.at/veranstaltung/second-aid/
LOCATION:Ringturm Wiener Städtische\, Schottenring 30\, Wien\, 1010\, Austria
CATEGORIES:Konferenz
END:VEVENT
BEGIN:VEVENT
DTSTART;TZID=Europe/Vienna:20251127T080000
DTEND;TZID=Europe/Vienna:20251129T170000
DTSTAMP:20260422T194951
CREATED:20250519T081418Z
LAST-MODIFIED:20250519T081418Z
UID:4783-1764230400-1764435600@www.secondvictim.at
SUMMARY:55. Kongress für Allgemeinmedizin - Graz
DESCRIPTION:Von 27. – 29. November findet der 55. Kongress für Allgemeinmedizin in der Stadthalle Graz statt. Dieses Jahr wird das Hauptthema des Kongresses „Hausarztmedizin mit Evidenz und Expertise“ sein. Dr. Eva Potura und Stephanie Niederhuber werden mit ihrem Seminar „Jetzt ist schon wieder was passiert – 3 Stunden 3 Fälle – Mitfühlen und selbst gesund bleiben“ unseren Verein in Graz vertreten.
URL:https://www.secondvictim.at/veranstaltung/55-kongress-fuer-allgemeinmedizin-graz/
LOCATION:Stadthalle Graz\, Messeplatz 1\, Graz\, Steiermark\, 8010\, Austria
CATEGORIES:Seminar
END:VEVENT
END:VCALENDAR