BEGIN:VCALENDAR
VERSION:2.0
PRODID:-//Second Victim - ECPv6.15.17.1//NONSGML v1.0//EN
CALSCALE:GREGORIAN
METHOD:PUBLISH
X-WR-CALNAME:Second Victim
X-ORIGINAL-URL:https://www.secondvictim.at
X-WR-CALDESC:Veranstaltungen für Second Victim
REFRESH-INTERVAL;VALUE=DURATION:PT1H
X-Robots-Tag:noindex
X-PUBLISHED-TTL:PT1H
BEGIN:VTIMEZONE
TZID:Europe/Vienna
BEGIN:DAYLIGHT
TZOFFSETFROM:+0100
TZOFFSETTO:+0200
TZNAME:CEST
DTSTART:20240331T010000
END:DAYLIGHT
BEGIN:STANDARD
TZOFFSETFROM:+0200
TZOFFSETTO:+0100
TZNAME:CET
DTSTART:20241027T010000
END:STANDARD
BEGIN:DAYLIGHT
TZOFFSETFROM:+0100
TZOFFSETTO:+0200
TZNAME:CEST
DTSTART:20250330T010000
END:DAYLIGHT
BEGIN:STANDARD
TZOFFSETFROM:+0200
TZOFFSETTO:+0100
TZNAME:CET
DTSTART:20251026T010000
END:STANDARD
BEGIN:DAYLIGHT
TZOFFSETFROM:+0100
TZOFFSETTO:+0200
TZNAME:CEST
DTSTART:20260329T010000
END:DAYLIGHT
BEGIN:STANDARD
TZOFFSETFROM:+0200
TZOFFSETTO:+0100
TZNAME:CET
DTSTART:20261025T010000
END:STANDARD
END:VTIMEZONE
BEGIN:VEVENT
DTSTART;TZID=Europe/Vienna:20250514T090000
DTEND;TZID=Europe/Vienna:20250514T140000
DTSTAMP:20260423T041234
CREATED:20250125T121410Z
LAST-MODIFIED:20250304T112201Z
UID:4311-1747213200-1747231200@www.secondvictim.at
SUMMARY:Second Victim Aktionstag\, Mai 2025
DESCRIPTION:Am 14. Mai beschäftigen sich unsere Speaker mit allumfassenden Themen bezüglich des Second Victim Phänomens. Nähere Informationen folgen.
URL:https://www.secondvictim.at/veranstaltung/second-victim-aktionstag-mai-2025/
LOCATION:Medizinische Universität Wien\, Van-Swieten-Gasse 1a\, Wien\, Wien\, 1190\, Austria
ORGANIZER;CN="Second Victim":MAILTO:fortbildung@secondvictim.at
END:VEVENT
END:VCALENDAR