BEGIN:VCALENDAR
VERSION:2.0
PRODID:-//Second Victim - ECPv6.15.17.1//NONSGML v1.0//EN
CALSCALE:GREGORIAN
METHOD:PUBLISH
X-WR-CALNAME:Second Victim
X-ORIGINAL-URL:https://www.secondvictim.at
X-WR-CALDESC:Veranstaltungen für Second Victim
REFRESH-INTERVAL;VALUE=DURATION:PT1H
X-Robots-Tag:noindex
X-PUBLISHED-TTL:PT1H
BEGIN:VTIMEZONE
TZID:Europe/Vienna
BEGIN:DAYLIGHT
TZOFFSETFROM:+0100
TZOFFSETTO:+0200
TZNAME:CEST
DTSTART:20240331T010000
END:DAYLIGHT
BEGIN:STANDARD
TZOFFSETFROM:+0200
TZOFFSETTO:+0100
TZNAME:CET
DTSTART:20241027T010000
END:STANDARD
BEGIN:DAYLIGHT
TZOFFSETFROM:+0100
TZOFFSETTO:+0200
TZNAME:CEST
DTSTART:20250330T010000
END:DAYLIGHT
BEGIN:STANDARD
TZOFFSETFROM:+0200
TZOFFSETTO:+0100
TZNAME:CET
DTSTART:20251026T010000
END:STANDARD
BEGIN:DAYLIGHT
TZOFFSETFROM:+0100
TZOFFSETTO:+0200
TZNAME:CEST
DTSTART:20260329T010000
END:DAYLIGHT
BEGIN:STANDARD
TZOFFSETFROM:+0200
TZOFFSETTO:+0100
TZNAME:CET
DTSTART:20261025T010000
END:STANDARD
END:VTIMEZONE
BEGIN:VEVENT
DTSTART;TZID=Europe/Vienna:20250211T073000
DTEND;TZID=Europe/Vienna:20250211T083000
DTSTAMP:20260423T080125
CREATED:20250210T075420Z
LAST-MODIFIED:20250210T075420Z
UID:4355-1739259000-1739262600@www.secondvictim.at
SUMMARY:PEER - Morgenvorlesung der Universitätsklinik für Frauenheilkunde
DESCRIPTION:Am Dienstag den 11. Februar klärt Dr. Barbara Sitter über das Second Victim Phänomen\, an der Universitätsklinik für Frauenheilkunde\, auf. Der Fokus des Vortrags liegt auf der Rolle von Peer Support\, also der Unterstützung durch Kollegen\, um präventiv zu arbeiten und das Wohlbefinden von betroffenen Mitarbeitern zu fördern. Dr. Barbara Sitter zeigt auf\, wie wichtig ein unterstützendes Umfeld im Gesundheitswesen für die Vermeidung von langfristigen psychischen Belastungen und die Förderung einer gesunden Arbeitskultur ist.
URL:https://www.secondvictim.at/veranstaltung/peer-morgenvorlesung-der-universitaetsklinik-fuer-frauenheilkunde/
LOCATION:Universitätsklinikum für Frauenheilkunde\, Währinger Gürtel 18-20\, Wien\, Wien\, 1090\, Austria
END:VEVENT
END:VCALENDAR