BEGIN:VCALENDAR
VERSION:2.0
PRODID:-//Second Victim - ECPv6.15.17.1//NONSGML v1.0//EN
CALSCALE:GREGORIAN
METHOD:PUBLISH
X-ORIGINAL-URL:https://www.secondvictim.at
X-WR-CALDESC:Veranstaltungen für Second Victim
REFRESH-INTERVAL;VALUE=DURATION:PT1H
X-Robots-Tag:noindex
X-PUBLISHED-TTL:PT1H
BEGIN:VTIMEZONE
TZID:Europe/Vienna
BEGIN:DAYLIGHT
TZOFFSETFROM:+0100
TZOFFSETTO:+0200
TZNAME:CEST
DTSTART:20230326T010000
END:DAYLIGHT
BEGIN:STANDARD
TZOFFSETFROM:+0200
TZOFFSETTO:+0100
TZNAME:CET
DTSTART:20231029T010000
END:STANDARD
BEGIN:DAYLIGHT
TZOFFSETFROM:+0100
TZOFFSETTO:+0200
TZNAME:CEST
DTSTART:20240331T010000
END:DAYLIGHT
BEGIN:STANDARD
TZOFFSETFROM:+0200
TZOFFSETTO:+0100
TZNAME:CET
DTSTART:20241027T010000
END:STANDARD
BEGIN:DAYLIGHT
TZOFFSETFROM:+0100
TZOFFSETTO:+0200
TZNAME:CEST
DTSTART:20250330T010000
END:DAYLIGHT
BEGIN:STANDARD
TZOFFSETFROM:+0200
TZOFFSETTO:+0100
TZNAME:CET
DTSTART:20251026T010000
END:STANDARD
END:VTIMEZONE
BEGIN:VEVENT
DTSTART;TZID=Europe/Vienna:20241105T180000
DTEND;TZID=Europe/Vienna:20241105T190000
DTSTAMP:20260423T122911
CREATED:20241029T103949Z
LAST-MODIFIED:20241029T104311Z
UID:4114-1730829600-1730833200@www.secondvictim.at
SUMMARY:Aktuelle Studienlage zum Second Victim Phänomen im Raum Österreich und Deutschland
DESCRIPTION:Vortragender\nProf. Dr. Reinhard Strametz \n  \n\n\n\n\n\nInhalt\n\n\n\nProf. Dr. Reinhard Strametz gibt einen Überblick über die derzeitige Forschungslage zum Second Victim Phänomen in Europa. Als Verein freuen wir uns den führenden Experten in diesem Feld für ein Webinar gewinnen zu können. Die bisherige Arbeit von Prof. Dr. Strametz in diesem Feld umfasst: \n\n\n\n\nProfessur Patientensicherheit; Wiesbaden Business School\, Hochschule RheinMain;\n\n\n\nGeneralsekretär\, Aktionsbündnis Patientensicherheit\, Berlin; Vice-Chair\, European Researchers‘ Network Working on Second Victims\, Brüssel\n\n\n\nVice Chair\, European Researchers‘ Network Working on Second Victims\, Brüssel;\n\n\n\nzuvor Ärztlicher Leiter der Stabsstelle Qualitätsmanagement des Vorstands und Facharzt für Anästhesiologie am Universitätsklinikum Frankfurt:\n\n\n\nFreiberuflicher Berater\, Dozent und Autor für Risikomanagement im Gesundheitswesen\n\nAnmeldung unter: fortbildung@secondvictim.at \n\n\n\nZoom link: Erhalt nach Anmeldung.
URL:https://www.secondvictim.at/veranstaltung/aktuelle-studienlage-zum-second-victim-phaenomen-im-raum-oesterreich-und-deutschland/
LOCATION:Zoom Meeting Second Victim\, Online\, Zoom\, Austria
CATEGORIES:Fortbildung
ORGANIZER;CN="Second Victim":MAILTO:fortbildung@secondvictim.at
END:VEVENT
BEGIN:VEVENT
DTSTART;TZID=Europe/Vienna:20241120T073000
DTEND;TZID=Europe/Vienna:20241120T080000
DTSTAMP:20260423T122911
CREATED:20241001T180028Z
LAST-MODIFIED:20241001T180028Z
UID:3686-1732087800-1732089600@www.secondvictim.at
SUMMARY:Morgenvorlesung des AKH Wien (Abteilung Anästhesie und Intensivmedizin): Vortrag Dr. Barbara Sitter
DESCRIPTION:Dr. Barbara Sitter gibt im Rahmen der Morgenvorlesung des AKH Wiens\, für die Abteilungen Anästhesie und Intensivmedizin\, Einblicke in das Second Victim Phänomen und Tipps für den korrekten Umgang mit Belastungssituationen.
URL:https://www.secondvictim.at/veranstaltung/morgenvorlesung-des-akh-wien-abteilung-anaesthesie-und-intensivmedizin-vortrag-dr-barbara-sitter/
LOCATION:AKH Wien\, Währinger Gürtel 18-20\, Wien\, 1090\, Austria
CATEGORIES:Vorlesung
END:VEVENT
BEGIN:VEVENT
DTSTART;TZID=Europe/Vienna:20241122T090000
DTEND;TZID=Europe/Vienna:20241122T103000
DTSTAMP:20260423T122911
CREATED:20241026T142812Z
LAST-MODIFIED:20241026T143241Z
UID:4063-1732266000-1732271400@www.secondvictim.at
SUMMARY:28. Österreichische Konferenz Gesundheitsfördernder Krankenhäuser und Gesundheitseinrichtungen
DESCRIPTION:Bei der 28. Österreichische Konferenz Gesundheitsfördernder Krankenhäuser und Gesundheitseinrichtungen wird unsere Vereinsgründerin Eva Potura im Auftrag der Gesundheit Österreich GmbH Einblicke zum Second Victim Phänomen und der Wichtigkeit von Präventivarbeit sowie Peer Strukturen in Organisationen geben. \nHier gehts zum Programm der Veranstaltung: \nhttps://www.ongkg.at/konferenz/2024/programm/plenum-2
URL:https://www.secondvictim.at/veranstaltung/28-oesterreichische-konferenz-gesundheitsfoerdernder-krankenhaeuser-und-gesundheitseinrichtungen/
LOCATION:Klinik Floridsdorf ­-­ Wiener Gesundheitsverbund Veranstaltungszentrum\, Ebene 2 (Liftkern A)\, Brünner Straße 68\, Wien\, Wien\, 1210\, Austria
CATEGORIES:Vortrag,Vortrag Extern
END:VEVENT
END:VCALENDAR