BEGIN:VCALENDAR
VERSION:2.0
PRODID:-//Second Victim - ECPv6.15.17.1//NONSGML v1.0//EN
CALSCALE:GREGORIAN
METHOD:PUBLISH
X-ORIGINAL-URL:https://www.secondvictim.at
X-WR-CALDESC:Veranstaltungen für Second Victim
REFRESH-INTERVAL;VALUE=DURATION:PT1H
X-Robots-Tag:noindex
X-PUBLISHED-TTL:PT1H
BEGIN:VTIMEZONE
TZID:Europe/Vienna
BEGIN:DAYLIGHT
TZOFFSETFROM:+0100
TZOFFSETTO:+0200
TZNAME:CEST
DTSTART:20230326T010000
END:DAYLIGHT
BEGIN:STANDARD
TZOFFSETFROM:+0200
TZOFFSETTO:+0100
TZNAME:CET
DTSTART:20231029T010000
END:STANDARD
BEGIN:DAYLIGHT
TZOFFSETFROM:+0100
TZOFFSETTO:+0200
TZNAME:CEST
DTSTART:20240331T010000
END:DAYLIGHT
BEGIN:STANDARD
TZOFFSETFROM:+0200
TZOFFSETTO:+0100
TZNAME:CET
DTSTART:20241027T010000
END:STANDARD
BEGIN:DAYLIGHT
TZOFFSETFROM:+0100
TZOFFSETTO:+0200
TZNAME:CEST
DTSTART:20250330T010000
END:DAYLIGHT
BEGIN:STANDARD
TZOFFSETFROM:+0200
TZOFFSETTO:+0100
TZNAME:CET
DTSTART:20251026T010000
END:STANDARD
END:VTIMEZONE
BEGIN:VEVENT
DTSTART;TZID=Europe/Vienna:20240410T100000
DTEND;TZID=Europe/Vienna:20240410T120000
DTSTAMP:20260423T221747
CREATED:20241111T131634Z
LAST-MODIFIED:20241111T131634Z
UID:4196-1712743200-1712750400@www.secondvictim.at
SUMMARY:IFIMP 2024 Innsbruck
DESCRIPTION:Barbara Sitter und Patrick Mocker präsentieren am IFIMP Kongress aktuelle Erkenntnisse zu Second Victim und Peer Unterstützung
URL:https://www.secondvictim.at/veranstaltung/ifimp-2024-innsbruck/
LOCATION:Innsbrucker Forum für Intensivmedizin und Pflege\, Rennweg 3\,\, Innsbruck\, Innsbruck\, 6020\, Austria
ORGANIZER;CN="Second Victim Extern":MAILTO:fortbildung@secondvictim.at
END:VEVENT
BEGIN:VEVENT
DTSTART;TZID=Europe/Vienna:20240422T133000
DTEND;TZID=Europe/Vienna:20240422T150000
DTSTAMP:20260423T221747
CREATED:20241001T175636Z
LAST-MODIFIED:20241001T175636Z
UID:3681-1713792600-1713798000@www.secondvictim.at
SUMMARY:Vortrag Task Force Patient:innensicherheit
DESCRIPTION:Dr. Eva Potura wird am 22.04.2024 um 13:00 in Zusammenarbeit mit der Med. Uni Wien über die Verbindungen des Second Victim Phänomens mit Patient:innensicherheit referieren.
URL:https://www.secondvictim.at/veranstaltung/vortrag-task-force-patientinnensicherheit/
LOCATION:Medizinische Universität Wien\, Van-Swieten-Gasse 1a\, Wien\, Wien\, 1190\, Austria
CATEGORIES:Vortrag
END:VEVENT
END:VCALENDAR