BEGIN:VCALENDAR
VERSION:2.0
PRODID:-//Second Victim - ECPv6.15.17.1//NONSGML v1.0//EN
CALSCALE:GREGORIAN
METHOD:PUBLISH
X-ORIGINAL-URL:https://www.secondvictim.at
X-WR-CALDESC:Veranstaltungen für Second Victim
REFRESH-INTERVAL;VALUE=DURATION:PT1H
X-Robots-Tag:noindex
X-PUBLISHED-TTL:PT1H
BEGIN:VTIMEZONE
TZID:Europe/Vienna
BEGIN:DAYLIGHT
TZOFFSETFROM:+0100
TZOFFSETTO:+0200
TZNAME:CEST
DTSTART:20230326T010000
END:DAYLIGHT
BEGIN:STANDARD
TZOFFSETFROM:+0200
TZOFFSETTO:+0100
TZNAME:CET
DTSTART:20231029T010000
END:STANDARD
BEGIN:DAYLIGHT
TZOFFSETFROM:+0100
TZOFFSETTO:+0200
TZNAME:CEST
DTSTART:20240331T010000
END:DAYLIGHT
BEGIN:STANDARD
TZOFFSETFROM:+0200
TZOFFSETTO:+0100
TZNAME:CET
DTSTART:20241027T010000
END:STANDARD
BEGIN:DAYLIGHT
TZOFFSETFROM:+0100
TZOFFSETTO:+0200
TZNAME:CEST
DTSTART:20250330T010000
END:DAYLIGHT
BEGIN:STANDARD
TZOFFSETFROM:+0200
TZOFFSETTO:+0100
TZNAME:CET
DTSTART:20251026T010000
END:STANDARD
END:VTIMEZONE
BEGIN:VEVENT
DTSTART;TZID=Europe/Vienna:20240313T103000
DTEND;TZID=Europe/Vienna:20240313T113000
DTSTAMP:20260423T232647
CREATED:20241111T131101Z
LAST-MODIFIED:20241111T131101Z
UID:4193-1710325800-1710329400@www.secondvictim.at
SUMMARY:Qm Symposium BMSGPK
DESCRIPTION:Eva Potura präsentiert im Bundesministerium aktuelle Erkenntnisse zu Second Victim.
URL:https://www.secondvictim.at/veranstaltung/qm-symposium-bmsgpk/
LOCATION:Bundesministerium für Soziales\, Gesundheit\, Pflege und Konsumentenschutz\, Stubenring 1\, Wien\, Wien\, 1010\, Austria
ORGANIZER;CN="Second Victim Extern":MAILTO:fortbildung@secondvictim.at
END:VEVENT
END:VCALENDAR