BEGIN:VCALENDAR
VERSION:2.0
PRODID:-//Second Victim - ECPv6.15.17.1//NONSGML v1.0//EN
CALSCALE:GREGORIAN
METHOD:PUBLISH
X-ORIGINAL-URL:https://www.secondvictim.at
X-WR-CALDESC:Veranstaltungen für Second Victim
REFRESH-INTERVAL;VALUE=DURATION:PT1H
X-Robots-Tag:noindex
X-PUBLISHED-TTL:PT1H
BEGIN:VTIMEZONE
TZID:Europe/Vienna
BEGIN:DAYLIGHT
TZOFFSETFROM:+0100
TZOFFSETTO:+0200
TZNAME:CEST
DTSTART:20230326T010000
END:DAYLIGHT
BEGIN:STANDARD
TZOFFSETFROM:+0200
TZOFFSETTO:+0100
TZNAME:CET
DTSTART:20231029T010000
END:STANDARD
BEGIN:DAYLIGHT
TZOFFSETFROM:+0100
TZOFFSETTO:+0200
TZNAME:CEST
DTSTART:20240331T010000
END:DAYLIGHT
BEGIN:STANDARD
TZOFFSETFROM:+0200
TZOFFSETTO:+0100
TZNAME:CET
DTSTART:20241027T010000
END:STANDARD
BEGIN:DAYLIGHT
TZOFFSETFROM:+0100
TZOFFSETTO:+0200
TZNAME:CEST
DTSTART:20250330T010000
END:DAYLIGHT
BEGIN:STANDARD
TZOFFSETFROM:+0200
TZOFFSETTO:+0100
TZNAME:CET
DTSTART:20251026T010000
END:STANDARD
END:VTIMEZONE
BEGIN:VEVENT
DTSTART;TZID=Europe/Vienna:20240117T080000
DTEND;TZID=Europe/Vienna:20240117T093000
DTSTAMP:20260424T014813
CREATED:20241111T125642Z
LAST-MODIFIED:20241111T125642Z
UID:4185-1705478400-1705483800@www.secondvictim.at
SUMMARY:Second Victim das Phhänomen und Lösungen
DESCRIPTION:Eva Potura berichtet im St. Josefs KH über das Phänomen und mögliche Präventivarbeit
URL:https://www.secondvictim.at/veranstaltung/second-victim-das-phhaenomen-und-loesungen/
LOCATION:St. Josef Krankenhaus Wien\, Auhofstraße 189\, Wien\, Wien\, 1130\, Austria
CATEGORIES:Vortrag Extern
END:VEVENT
BEGIN:VEVENT
DTSTART;TZID=Europe/Vienna:20240124T140000
DTEND;TZID=Europe/Vienna:20240124T150000
DTSTAMP:20260424T014813
CREATED:20241111T130244Z
LAST-MODIFIED:20241111T130317Z
UID:4188-1706104800-1706108400@www.secondvictim.at
SUMMARY:Interdisziplinärer Palliativlehrgang
DESCRIPTION:Barbara Sitter präsentiert aktuelle Präventivarbeit zum Second Victim Phänomen im Kardinal König Haus
URL:https://www.secondvictim.at/veranstaltung/interdisziplinaerer-palliativlehrgang/
LOCATION:Kardinal König Haus\, Kardinal-König-Platz 3\, Wien\, Wien\, 1130\, Austria
ORGANIZER;CN="Second Victim Extern":MAILTO:fortbildung@secondvictim.at
END:VEVENT
END:VCALENDAR